Workbook

Sheet Notes
A1: ASIAN DEVELOPMENT BANK - PNG MACROECONOMIC MODELLING DATASET
A2: CONTACT: ABATTEN@ADB.ORG
A4: Number shading
A5: Figures in black are raw data, copied as is from source
A6: Figures in blue are derived or computed from raw data
A7: Figures in red are computed figures that do not tally with those from the original data source.
A9: Cell shading
B10: excel-based data not available
B11: National Income Accounts and Prices
B12: External Sector Accounts and BOP
B13: Monetary Sector Accounts
B14: Fiscal Sector Accounts
B15: International Economic Indicators

Sheet Database Content
A1: Papua New Guinea
A2: Macro Model Database
A3: Main Cateogry | B3: Subcategory | C3: Series Description | D3: Series Code | E3: Mnemonic | F3: Unit | G3: Frequency | H3: Start Date | I3: End Date | J3: No of years | K3: Source | L3: Publication | M3: Notes
A5: National Income Accounts and Prices | B5: Gross domestic product | C5: GDP, constant (1983| 1998 prices) | D5: NGDPTOTCON | E5: GDP_R | F5: K Million | G5: annual | H5: 28490 | I5: 39082 | J5: =YEAR(I5)-YEAR(H5) -> 29 | K5: Bank of PNG | L5: Quarterly Economic Bulletin (Table 9.7) | M5: Break in series in 1994
A6: National Income Accounts and Prices | B6: Gross domestic product | C6: GDP, current prices | D6: NGDPTOTCUR | E6: GDP_N | F6: K Million | G6: annual | H6: 28490 | I6: 39082 | J6: =YEAR(I6)-YEAR(H6) -> 29 | K6: Bank of PNG | L6: Quarterly Economic Bulletin (Table 9.6) | M6: Break in series in 1994
A7: National Income Accounts and Prices | B7: Gross domestic product | C7: GDP, non-mining, current | D7: NGDPMINCUR | E7: NMIN_N | F7: K Million | G7: annual | H7: 34699 | I7: 39082 | J7: =YEAR(I7)-YEAR(H7) -> 12 | K7: PNG NSO | L7: National Accounts Statistics
A8: National Income Accounts and Prices | B8: Gross domestic product | C8: GDP, non-mining, constant (1998 price) | D8: NGDPNMICON | E8: NMIN_R | F8: K Million | G8: annual | H8: 34699 | I8: 39082 | J8: =YEAR(I8)-YEAR(H8) -> 12 | K8: PNG NSO | L8: National Accounts Statistics
A9: National Income Accounts and Prices | B9: Gross domestic product by industry | C9: Agriculture, Forestry and Fishery | D9: NGDPAGRCUR | E9: AGR_N | F9: K Million | G9: annual | H9: 34699 | I9: 40178 | J9: =YEAR(I9)-YEAR(H9) -> 15 | K9: PNG NSO, Dept of Treasury | L9: National Accounts Statistics | M9: Data beginning 2007 are estimates from the Dept of Treasury
A10: National Income Accounts and Prices | B10: Gross domestic product by industry | C10: Mining and Petroleum | D10: NGDPMINCUR | E10: MIN_N | F10: K Million | G10: annual | H10: 34699 | I10: 40178 | J10: =YEAR(I10)-YEAR(H10) -> 15 | K10: PNG NSO, Dept of Treasury | L10: National Accounts Statistics | M10: Data beginning 2007 are estimates from the Dept of Treasury
A11: National Income Accounts and Prices | B11: Gross domestic product by industry | C11: Manufacturing | D11: NGDPMANCUR | E11: MAN_N | F11: K Million | G11: annual | H11: 34699 | I11: 40178 | J11: =YEAR(I11)-YEAR(H11) -> 15 | K11: PNG NSO, Dept of Treasury | L11: National Accounts Statistics | M11: Data beginning 2007 are estimates from the Dept of Treasury
A12: National Income Accounts and Prices | B12: Gross domestic product by industry | C12: Electricity, gas and water | D12: NGDPELECUR | E12: ELE_N | F12: K Million | G12: annual | H12: 34699 | I12: 40178 | J12: =YEAR(I12)-YEAR(H12) -> 15 | K12: PNG NSO, Dept of Treasury | L12: National Accounts Statistics | M12: Data beginning 2007 are estimates from the Dept of Treasury
A13: National Income Accounts and Prices | B13: Gross domestic product by industry | C13: Construction | D13: NGDPCONCUR | E13: CTN_N | F13: K Million | G13: annual | H13: 34699 | I13: 40178 | J13: =YEAR(I13)-YEAR(H13) -> 15 | K13: PNG NSO, Dept of Treasury | L13: National Accounts Statistics | M13: Data beginning 2007 are estimates from the Dept of Treasury
A14: National Income Accounts and Prices | B14: Gross domestic product by industry | C14: Trade | D14: NGDPTRACUR | E14: TRA_N | F14: K Million | G14: annual | H14: 34699 | I14: 40178 | J14: =YEAR(I14)-YEAR(H14) -> 15 | K14: PNG NSO, Dept of Treasury | L14: National Accounts Statistics | M14: Data beginning 2007 are estimates from the Dept of Treasury
A15: National Income Accounts and Prices | B15: Gross domestic product by industry | C15: Transport and communications | D15: NGDPTRNCUR | E15: TRNS_N | F15: K Million | G15: annual | H15: 34699 | I15: 40178 | J15: =YEAR(I15)-YEAR(H15) -> 15 | K15: PNG NSO, Dept of Treasury | L15: National Accounts Statistics | M15: Data beginning 2007 are estimates from the Dept of Treasury
A16: National Income Accounts and Prices | B16: Gross domestic product by industry | C16: Financing, insurance, real estate and business service | D16: NGDPFINCUR | E16: FIN_N | F16: K Million | G16: annual | H16: 34699 | I16: 40178 | J16: =YEAR(I16)-YEAR(H16) -> 15 | K16: PNG NSO, Dept of Treasury | L16: National Accounts Statistics | M16: Data beginning 2007 are estimates from the Dept of Treasury
A17: National Income Accounts and Prices | B17: Gross domestic product by industry | C17: Public Community, social & personal services | E17: GCSS_N | F17: K Million | G17: annual | H17: 34699 | I17: 40178 | J17: =YEAR(I17)-YEAR(H17) -> 15 | K17: PNG NSO, Dept of Treasury | L17: National Accounts Statistics | M17: Data beginning 2007 are estimates from the Dept of Treasury
A18: National Income Accounts and Prices | B18: Gross domestic product by industry | C18: Private Community, social & personal services | E18: PCSS_N | F18: K Million | G18: annual | H18: 34699 | I18: 40178 | J18: =YEAR(I18)-YEAR(H18) -> 15 | K18: PNG NSO, Dept of Treasury | L18: National Accounts Statistics | M18: Data beginning 2007 are estimates from the Dept of Treasury
A19: National Income Accounts and Prices | B19: Gross domestic product by expenditure | C19: Private consumption, current | D19: NGDPPRCCUR | E19: PCON_N | F19: K Million | G19: annual | H19: 28490 | I19: 39082 | J19: =YEAR(I19)-YEAR(H19) -> 29 | K19: Bank of PNG | L19: Quarterly Economic Bulletin (Table 9.7) | M19: Break in series in 1994
A20: National Income Accounts and Prices | B20: Gross domestic product by expenditure | C20: Government consumption, current | D20: NGDPPUCCUR | E20: GCON_N | F20: K Million | G20: annual | H20: 28490 | I20: 39082 | J20: =YEAR(I20)-YEAR(H20) -> 29 | K20: Bank of PNG | L20: Quarterly Economic Bulletin (Table 9.7) | M20: Break in series in 1994
A21: National Income Accounts and Prices | B21: Gross domestic product by expenditure | C21: Gross domestic capital formation, current | D21: NGDPCAPCUR | E21: INV_N | F21: K Million | G21: annual | H21: 28490 | I21: 39082 | J21: =YEAR(I21)-YEAR(H21) -> 29 | K21: Bank of PNG | L21: Quarterly Economic Bulletin (Table 9.7) | M21: Break in series in 1994
A22: National Income Accounts and Prices | B22: Gross domestic product by expenditure | C22: Change in stocks, current | D22: NGDPSTOCUR | E22: STO_N | F22: K Million | G22: annual | H22: 28490 | I22: 39082 | J22: =YEAR(I22)-YEAR(H22) -> 29 | K22: Bank of PNG | L22: Quarterly Economic Bulletin (Table 9.7) | M22: Break in series in 1994
A23: National Income Accounts and Prices | B23: Gross domestic product by expenditure | C23: Exports of goods & services, current | D23: NGDPEXPCUR | E23: XGS_N | F23: K Million | G23: annual | H23: 28490 | I23: 39082 | J23: =YEAR(I23)-YEAR(H23) -> 29 | K23: Bank of PNG | L23: Quarterly Economic Bulletin (Table 9.7) | M23: Break in series in 1994
A24: National Income Accounts and Prices | B24: Gross domestic product by expenditure | C24: Imports of goods and services, current | D24: NGDPIMPCUR | E24: MGS_N | F24: K Million | G24: annual | H24: 28490 | I24: 39082 | J24: =YEAR(I24)-YEAR(H24) -> 29 | K24: Bank of PNG | L24: Quarterly Economic Bulletin (Table 9.7) | M24: Break in series in 1994
A25: National Income Accounts and Prices | B25: Gross domestic product by expenditure | C25: Private consumption, constant | D25: NGDPPRCCON | E25: PCON_R | F25: K Million | G25: annual | H25: 28490 | I25: 39082 | J25: =YEAR(I25)-YEAR(H25) -> 29 | K25: Bank of PNG | L25: Quarterly Economic Bulletin (Table 9.7) | M25: Break in series in 1994
A26: National Income Accounts and Prices | B26: Gross domestic product by expenditure | C26: Government consumption, constant | D26: NGDPPUCCON | E26: GCON_R | F26: K Million | G26: annual | H26: 28490 | I26: 39082 | J26: =YEAR(I26)-YEAR(H26) -> 29 | K26: Bank of PNG | L26: Quarterly Economic Bulletin (Table 9.7) | M26: Break in series in 1994
A27: National Income Accounts and Prices | B27: Gross domestic product by expenditure | C27: Gross domestic capital formation, constant | D27: NGDPCAPCON | E27: INV_R | F27: K Million | G27: annual | H27: 28490 | I27: 39082 | J27: =YEAR(I27)-YEAR(H27) -> 29 | K27: Bank of PNG | L27: Quarterly Economic Bulletin (Table 9.7) | M27: Break in series in 1994
A28: National Income Accounts and Prices | B28: Gross domestic product by expenditure | C28: Change in stocks, constant | D28: NGDPSTOCON | E28: STO_R | F28: K Million | G28: annual | H28: 28490 | I28: 39082 | J28: =YEAR(I28)-YEAR(H28) -> 29 | K28: Bank of PNG | L28: Quarterly Economic Bulletin (Table 9.7) | M28: Break in series in 1994
A29: National Income Accounts and Prices | B29: Gross domestic product by expenditure | C29: Exports of goods & services, constant | D29: NGDPEXPCON | E29: XGS_R | F29: K Million | G29: annual | H29: 28490 | I29: 39082 | J29: =YEAR(I29)-YEAR(H29) -> 29 | K29: Bank of PNG | L29: Quarterly Economic Bulletin (Table 9.7) | M29: Break in series in 1994
A30: National Income Accounts and Prices | B30: Gross domestic product by expenditure | C30: Imports of goods and services, constant | D30: NGDPIMPCON | E30: MGS_R | F30: K Million | G30: annual | H30: 28490 | I30: 39082 | J30: =YEAR(I30)-YEAR(H30) -> 29 | K30: Bank of PNG | L30: Quarterly Economic Bulletin (Table 9.7) | M30: Break in series in 1994
A31: National Income Accounts and Prices | B31: Gross domestic product by expenditure | C31: GDP | E31: GDP_D | F31: Index | G31: annual | H31: 28490 | I31: 39082 | J31: =YEAR(I31)-YEAR(H31) -> 29 | K31: Bank of PNG | L31: Quarterly Economic Bulletin (Table 9.7)
A32: National Income Accounts and Prices | B32: Deflators for GDP Expenditure Components | C32: Private consumption | D32: NGDPPRCDEF | E32: PCON_D | F32: Index | G32: annual | H32: 28490 | I32: 39082 | J32: =YEAR(I32)-YEAR(H32) -> 29 | K32: Bank of PNG | L32: Quarterly Economic Bulletin (Table 9.7) | M32: Break in series in 1994
A33: National Income Accounts and Prices | B33: Deflators for GDP Expenditure Components | C33: Government consumption | D33: NGDPPUCDEF | E33: GCON_D | F33: Index | G33: annual | H33: 28490 | I33: 39082 | J33: =YEAR(I33)-YEAR(H33) -> 29 | K33: Bank of PNG | L33: Quarterly Economic Bulletin (Table 9.7) | M33: Break in series in 1994
A34: National Income Accounts and Prices | B34: Deflators for GDP Expenditure Components | C34: Gross domestic capital formation | D34: NGDPCAPDEF | E34: INV_D | F34: Index | G34: annual | H34: 28490 | I34: 39082 | J34: =YEAR(I34)-YEAR(H34) -> 29 | K34: Bank of PNG | L34: Quarterly Economic Bulletin (Table 9.7) | M34: Break in series in 1994
A35: National Income Accounts and Prices | B35: Deflators for GDP Expenditure Components | C35: Exports of goods & services | D35: NGDPEXPDEF | E35: XGS_D | F35: Index | G35: annual | H35: 28490 | I35: 39082 | J35: =YEAR(I35)-YEAR(H35) -> 29 | K35: Bank of PNG | L35: Quarterly Economic Bulletin (Table 9.7) | M35: Break in series in 1994
A36: National Income Accounts and Prices | B36: Deflators for GDP Expenditure Components | C36: Imports of goods and services | D36: NGDPIMPDEF | E36: MGS_D | F36: Index | G36: annual | H36: 28490 | I36: 39082 | J36: =YEAR(I36)-YEAR(H36) -> 29 | K36: Bank of PNG | L36: Quarterly Economic Bulletin (Table 9.7) | M36: Break in series in 1994
A37: National Income Accounts and Prices | B37: Gross domestic product by income component | C37: Compensation of employees | D37: NGDPCOMCUR | E37: COM_N | F37: K Million | G37: annual | H37: 28490 | I37: 39082 | J37: =YEAR(I37)-YEAR(H37) -> 29 | K37: Bank of PNG | L37: Quarterly Economic Bulletin (Table 9.8)
A38: National Income Accounts and Prices | B38: Gross domestic product by income component | C38: Gross operating surplus | D38: NGDPOPECUR | E38: GOS_N | F38: K Million | G38: annual | H38: 28490 | I38: 39082 | J38: =YEAR(I38)-YEAR(H38) -> 29 | K38: Bank of PNG | L38: Quarterly Economic Bulletin (Table 9.8)
A39: National Income Accounts and Prices | B39: Gross domestic product by income component | C39: GDP at factor cost | E39: GDPF_N | F39: K Million | G39: annual | H39: 28490 | I39: 39082 | J39: =YEAR(I39)-YEAR(H39) -> 29 | K39: Bank of PNG | L39: Quarterly Economic Bulletin (Table 9.8)
A40: National Income Accounts and Prices | B40: Gross domestic product by income component | C40: Indirect taxes less subsidies | D40: NGDPTAXCUR | E40: ITAX_N | F40: K Million | G40: annual | H40: 28490 | I40: 39082 | J40: =YEAR(I40)-YEAR(H40) -> 29 | K40: Bank of PNG | L40: Quarterly Economic Bulletin (Table 9.8)
A41: National Income Accounts and Prices | B41: Gross domestic product by income component | C41: Net factor income from abroad | E41: NFIA_N | F41: K Million | G41: annual | H41: 28490 | I41: 39082 | J41: =YEAR(I41)-YEAR(H41) -> 29 | K41: Bank of PNG | L41: Quarterly Economic Bulletin (Table 9.8)
...

Sheet annual data
B2: Main Cateogry | C2: National Income Accounts and Prices | BJ2: External Sector Accounts and BOP | CU2: Monetary Sector Accounts | DE2: Fiscal Sector Accounts | EB2: International Economic Indicators
B3: Subcategory | C3: GDP | G3: GDP by industry | AA3: GDP by expenditure | AN3: Deflators for GDP Expenditure Components | AU3: GDP by income component | BA3: Consumer price index | BG3: Employment by industry | BJ3: Balance of payments | CE3: NFA of Depository Corporations | CG3: Trade | CR3: External public debt | CU3: Volume of Money | CZ3: Commercial banks | DC3: Foreign exchange rate | DE3: Central Government Fiscal Operation | DY3: Public debt outstanding | EB3: World commodity prices | EJ3: Foreign inflation | EN3: Foreign gross domestic product | ES3: Foreign trade
B4: Series Description | C4: GDP, constant (1983| 1998 prices) | D4: GDP, current prices | E4: GDP, non-mining, current | F4: GDP, non-mining, constant (1998 price) | G4: Agriculture, Forestry and Fishery | H4: Mining and Petroleum | I4: Manufacturing | J4: Electricity, gas and water | K4: Construction | L4: Trade | M4: Transport and communications | N4: Financing, insurance, real estate and business service | O4: Public Community, social & personal services | P4: Private Community, social & personal services | AA4: Private consumption, current | AB4: Government consumption, current | AC4: Gross domestic capital formation, current | AD4: Change in stocks, current | AE4: Exports of goods & services, current | AF4: Imports of goods and services, current | AN4: GDP | AO4: Private consumption | AP4: Government consumption | AQ4: Gross domestic capital formation | AR4: Change in stocks | AS4: Exports of goods & services | AT4: Imports of goods and services | AU4: Compensation of employees | AV4: Gross operating surplus | AW4: GDP at factor cost | AX4: Indirect taxes less subsidies | AY4: Net factor income from abroad | AZ4: GNP | BA4: Consumer price index (1977=100) | BB4: CPI - Food | BC4: CPI - Non-food | BD4: Inflation | BE4: Inflation - food | BF4: Inflation - non-food | BG4: Employment (March 2002=100) | BH4: Employment, Mineral | BI4: Employment, Non-mineral | BJ4: Current account balance | BK4: Trade balance | BL4: Credit (exports) | BM4: Debit (Imports) | BN4: Goods balance | BO4: Credit (exports) | BP4: Debit (Imports) | BQ4: Service balance | BR4: Credit | BS4: Debit | BT4: Income balance | BU4: Credit | BV4: Debit | BW4: Transfers balance | BX4: Credit | BY4: Debit | BZ4: Capital account balance | CA4: Credit | CB4: Debit | CC4: Financial account balance | CD4: Overall balance | CE4: BPNG Holdings of Gold and Foreign Exchange | CF4: International Reserves | CG4: Total exports | CH4: Non-mineral exports | CI4: Mineral exports | CJ4: Agricultural exports | CK4: Total imports | CL4: Export volume index (1994=100) | CM4: Mineral export volume index | CN4: Non-mineral export volume index | CO4: Export price index (1994=100) | CP4: Mineral export price index | CQ4: Non-mineral export price index | CR4: Total public external debt | CS4: Drawdowns | CT4: Principal repayments | CU4: Broad money | CV4: Narrow money | CW4: Net foreign assets | CX4: Domestic claims on private sector | CY4: Domestic claims on government | CZ4: Assets: Loans to private sector | DA4: Interest rate: deposit | DB4: Interest rate: loans | DC4: Kina per US dollar | DD4: Kina per Australian dollar | DE4: Total revenue and grants | DF4: Government revenue | DG4: Mineral revenue | DH4: Non-mineral revenue | DI4: Tax revenue | DJ4: Tax on income and profits | DK4: Personal tax | DL4: Company tax | DM4: Other taxes | DN4: Tax on goods and services | DO4: Tax on international trade | DP4: Non-tax revenue | DQ4: Injection from trust accounts | DR4: Foreign grants and tax credits | DS4: Government expenditure | DT4: Recurrent | DU4: Development | DV4: Government fiscal balance | DW4: External financing | DX4: Domestic financing | DY4: Total public debt outstanding | DZ4: Domestic debt outstanding | EA4: External debt outstanding | EB4: Crude oil | EC4: Gold | ED4: Copper | EE4: Cocoa | EF4: Coffee | EG4: Copra | EH4: Copra Oil | EI4: Palm Oil | EJ4: Consumer price index : Australia | EK4: Inflation: Australia | EL4: Consumer price index : Singapore | EM4: Inflation: Singapore | EN4: Australia: gross domestic product, constant | EO4: Singapore: gross domestic product, constant | EP4: Japan: gross domestic product, constant | EQ4: South Korea: gross domestic product, constant | ER4: World: gross domestic product, constant | ES4: World: exports of goods and services | ET4: World: imports of goods and services
B5: Mnemonic | C5: GDP_R | D5: GDP_N | E5: NMIN_N | F5: NMIN_R | G5: AGR_N | H5: MIN_N | I5: MAN_N | J5: ELE_N | K5: CTN_N | L5: TRA_N | M5: TRNS_N | N5: FIN_N | O5: GCSS_N | P5: PCSS_N | Q5: AGR_R | R5: MIN_R | S5: MAN_R | T5: ELE_R | U5: CTN_R | V5: TRA_R | W5: TRNS_R | X5: FIN_R | Y5: GCSS_R | Z5: PCSS_R | AA5: PCON_N | AB5: GCON_N | AC5: INV_N | AD5: STO_N | AE5: XGS_N | AF5: MGS_N | AG5: GDP_R* | AH5: PCON_R* | AI5: GCON_R* | AJ5: INV_R* | AK5: STO_R* | AL5: XGS_R* | AM5: MGS_R* | AN5: GDP_D | AO5: PCON_D | AP5: GCON_D | AQ5: INV_D | AR5: STO_D | AS5: XGS_D | AT5: MGS_D | AU5: COM_N | AV5: GOS_N | AW5: GDPF_N | AX5: ITAX_N | AY5: NFIA_N | AZ5: GNP_N | BA5: CPI | BB5: CPIF | BC5: CPINF | BD5: INF | BE5: INFF | BF5: INFNF | BG5: EMP | BH5: EMPM | BI5: EMPNM | BJ5: CAB | BK5: TRB | BL5: TRBX | BM5: TRBM | BN5: GOB | BO5: GOBX | BP5: GOBM | BQ5: SEB | BR5: SEBC | BS5: SEBD | BT5: INB | BU5: INBC | BV5: INBD | BW5: TFB | BX5: TFBC | BY5: TFBD | BZ5: CPB | CA5: CPBC | CB5: CPBD | CC5: FAB | CD5: OVB | CE5: GFX | CF5: IRES | CG5: XGST_N | CH5: XNM_N | CI5: XMI_N | CJ5: XAG_N | CK5: MGST_N | CL5: XGS_V | CM5: XMI_V | CN5: XNM_V | CO5: XGS_P | CP5: XMN_P | CQ5: XNM_P | CR5: DEBTX | CS5: DRW | CT5: PRE | CU5: BRO | CV5: NAR | CW5: NFA | CX5: CLP | CY5: CLG | CZ5: LOA | DA5: DEP_I | DB5: LOAN_I | DC5: KUS | DD5: KAU | DE5: REVG | DF5: REV | DG5: REVM | DH5: REVNM | DI5: TAX | DJ5: TAXY | DK5: TAXP | DL5: TAXB | DM5: TAXO | DN5: TAXGS | DO5: TAXIT | DP5: NTAX | DQ5: INJ | DR5: GRA | DS5: EXP | DT5: EXPR | DU5: EXPD | DV5: FBAL | DW5: EXF | DX5: DOF | DY5: DEBT | DZ5: DEBTD | EA5: DEBTX | EB5: CROIL | EC5: GOLD | ED5: COP | EE5: COC | EF5: COF | EG5: COP | EH5: CPOIL | EI5: PLOIL | EJ5: CPIAU | EK5: INFAU | EL5: CPISIN | EM5: INFSIN | EN5: GDPAU | EO5: GDPSIN | EP5: GDPJA | EQ5: GDPSK | ER5: GDPW | ES5: XGSW | ET5: MGSW
B6: Unit | C6: K Million | D6: K Million | E6: K Million | F6: K Million | G6: K Million | H6: K Million | I6: K Million | J6: K Million | K6: K Million | L6: K Million | M6: K Million | N6: K Million | O6: K Million | P6: K Million | Q6: K Million | R6: K Million | S6: K Million | T6: K Million | U6: K Million | V6: K Million | W6: K Million | X6: K Million | Y6: K Million | Z6: K Million | AA6: K Million | AB6: K Million | AC6: K Million | AD6: K Million | AE6: K Million | AF6: K Million | AG6: K Million | AH6: K Million | AI6: K Million | AJ6: K Million | AK6: K Million | AL6: K Million | AM6: K Million | AN6: Index | AO6: Index | AP6: Index | AQ6: Index | AR6: Index | AS6: Index | AT6: Index | AU6: K Million | AV6: K Million | AW6: K Million | AX6: K Million | AY6: K Million | AZ6: K Million | BA6: Index | BB6: Index | BC6: Index | BD6: % | BE6: % | BF6: % | BG6: Index | BH6: Index | BI6: Index | BJ6: K Million | BK6: K Million | BL6: K Million | BM6: K Million | BN6: K Million | BO6: K Million | BP6: K Million | BQ6: K Million | BR6: K Million | BS6: K Million | BT6: K Million | BU6: K Million | BV6: K Million | BW6: K Million | BX6: K Million | BY6: K Million | BZ6: K Million | CA6: K Million | CB6: K Million | CC6: K Million | CD6: K Million | CE6: K Million | CF6: K Million | CG6: K Million, fob | CH6: K Million, fob | CI6: K Million, fob | CJ6: K Million, fob | CK6: K Million, fob | CL6: index | CM6: index | CN6: index | CO6: Index | CP6: index | CQ6: index | CR6: K million | CS6: K million | CT6: K million | CU6: K million | CV6: K million | CW6: K million | CX6: K million | CY6: K million | CZ6: K million | DA6: % pa | DB6: % pa | DC6: Kina per US$ | DD6: Kina per A$ | DE6: K million | DF6: K million | DG6: K million | DH6: K million | DI6: K million | DJ6: K million | DK6: K million | DL6: K million | DM6: K million | DN6: K million | DO6: K million | DP6: K million | DQ6: K million | DR6: K million | DS6: K million | DT6: K million | DU6: K million | DV6: K million | DW6: K million | DX6: K million | DY6: K million | DZ6: K million | EA6: K million | EB6: Dated Brent, US$ per barrel | EC6: US$/oz | ED6: US$/t | EE6: ¢/kg | EF6: ¢/kg | EG6: $/mt | EH6: $/mt | EI6: $/mt | EJ6: Index | EK6: % yoy | EL6: Index | EM6: % yoy | EN6: % yoy | EO6: % yoy | EP6: % yoy | EQ6: % yoy | ER6: % yoy | ES6: USD billion | ET6: USD billion
B7: Orig Frequency | C7: annual | D7: annual | E7: annual | F7: annual | G7: annual | H7: annual | I7: annual | J7: annual | K7: annual | L7: annual | M7: annual | N7: annual | O7: annual | P7: annual | Q7: annual | R7: annual | S7: annual | T7: annual | U7: annual | V7: annual | W7: annual | X7: annual | Y7: annual | Z7: annual | AA7: annual | AB7: annual | AC7: annual | AD7: annual | AE7: annual | AF7: annual | AH7: annual | AI7: annual | AJ7: annual | AK7: annual | AL7: annual | AM7: annual | AN7: annual | AO7: annual | AP7: annual | AQ7: annual | AR7: annual | AS7: annual | AT7: annual | AU7: annual | AV7: annual | AW7: annual | AX7: annual | AY7: annual | AZ7: annual | BA7: quarterly | BB7: quarterly | BC7: quarterly | BD7: quarterly | BE7: quarterly | BF7: quarterly | BG7: quarterly | BH7: quarterly | BI7: quarterly | BJ7: quarterly | BK7: quarterly | BL7: quarterly | BM7: quarterly | BN7: quarterly | BO7: quarterly | BP7: quarterly | BQ7: quarterly | BR7: quarterly | BS7: quarterly | BT7: quarterly | BU7: quarterly | BV7: quarterly | BW7: quarterly | BX7: quarterly | BY7: quarterly | BZ7: quarterly | CA7: quarterly | CB7: quarterly | CC7: quarterly | CD7: quarterly | CE7: monthly | CF7: monthly | CG7: quarterly | CH7: quarterly | CI7: quarterly | CJ7: quarterly | CK7: annual | CL7: quarterly | CM7: quarterly | CN7: quarterly | CO7: quarterly | CP7: quarterly | CQ7: quarterly | CR7: quarterly | CS7: quarterly | CT7: quarterly | CU7: monthly | CV7: monthly | CW7: monthly | CX7: monthly | CY7: monthly | CZ7: monthly | DA7: monthly | DB7: monthly | DC7: monthly | DD7: monthly | DE7: quarterly | DF7: quarterly | DG7: quarterly | DH7: quarterly | DI7: quarterly | DJ7: quarterly | DK7: quarterly | DL7: quarterly | DM7: quarterly | DN7: quarterly | DO7: quarterly | DP7: quarterly | DQ7: quarterly | DR7: quarterly | DS7: quarterly | DT7: quarterly | DU7: quarterly | DV7: quarterly | DW7: quarterly | DX7: quarterly | DY7: quarterly | DZ7: quarterly | EA7: quarterly | EB7: monthly | EC7: monthly | ED7: monthly | EE7: monthly | EF7: monthly | EG7: monthly | EH7: monthly | EI7: monthly | EJ7: quarterly | EK7: quarterly | EL7: annual | EM7: annual | EN7: annual | EO7: annual | EP7: annual | EQ7: annual | ER7: annual | ES7: annual | ET7: annual
B8: Start Date | C8: 28490 | D8: 28490 | E8: 34699 | F8: 34699 | G8: 34699 | H8: 34699 | I8: 34699 | J8: 34699 | K8: 34699 | L8: 34699 | M8: 34699 | N8: 34699 | O8: 34699 | P8: 34699 | Q8: 34699 | R8: 34699 | S8: 34699 | T8: 34699 | U8: 34699 | V8: 34699 | W8: 34699 | X8: 34699 | Y8: 34699 | Z8: 34699 | AA8: 28490 | AB8: 28490 | AC8: 28490 | AD8: 28490 | AE8: 28490 | AF8: 28490 | AH8: 28490 | AI8: 28490 | AJ8: 28490 | AK8: 28490 | AL8: 28490 | AM8: 28490 | AN8: 28490 | AO8: 28490 | AP8: 28490 | AQ8: 28490 | AR8: 28490 | AS8: 28490 | AT8: 28490 | AU8: 28490 | AV8: 28490 | AW8: 28490 | AX8: 28490 | AY8: 28490 | AZ8: 28490 | BA8: 28215 | BB8: 28215 | BC8: 28215 | BD8: 28215 | BE8: 28215 | BF8: 28215 | BG8: 32963 | BH8: 32963 | BI8: 32963 | BJ8: 35611 | BK8: 35611 | BL8: 35611 | BM8: 35611 | BN8: 35611 | BO8: 35611 | BP8: 35611 | BQ8: 37346 | BR8: 37346 | BS8: 37346 | BT8: 37346 | BU8: 37346 | BV8: 37346 | BW8: 37346 | BX8: 37346 | BY8: 37346 | BZ8: 35611 | CA8: 37346 | CB8: 37346 | CC8: 35611 | CD8: 35611 | CE8: 37287 | CF8: 37287 | CG8: 32963 | CH8: 32963 | CI8: 32963 | CJ8: 32963 | CK8: 27759 | CL8: 34424 | CM8: 34424 | CN8: 34424 | CO8: 34424 | CP8: 34424 | CQ8: 34424 | CR8: 32963 | CS8: 32963 | CT8: 32963 | CU8: 37287 | CV8: 37287 | CW8: 37287 | CX8: 37287 | CY8: 37287 | CZ8: 37287 | DA8: 32904 | DB8: 32904 | DC8: 32904 | DD8: 32904 | DE8: 38807 | DF8: 38807 | DG8: 38807 | DH8: 38807 | DI8: 38807 | DJ8: 38807 | DK8: 38807 | DL8: 38807 | DM8: 38807 | DN8: 38807 | DO8: 38807 | DP8: 38807 | DQ8: 38807 | DR8: 38807 | DS8: 38807 | DT8: 38807 | DU8: 38807 | DV8: 38807 | DW8: 38807 | DX8: 38807 | DY8: 32963 | DZ8: 32963 | EA8: 32963 | EB8: 36556 | EC8: 36556 | ED8: 36556 | EE8: 36556 | EF8: 36556 | EG8: 38383 | EH8: 38383 | EI8: 38383 | EJ8: 17806 | EK8: 17806 | EL8: 29251 | EM8: 29251 | EN8: 29251 | EO8: 29251 | EP8: 29251 | EQ8: 29251 | ER8: 29251 | ES8: 29251 | ET8: 29251
B9: End Date | C9: 39082 | D9: 39082 | E9: 39082 | F9: 39082 | G9: 40178 | H9: 40178 | I9: 40178 | J9: 40178 | K9: 40178 | L9: 40178 | M9: 40178 | N9: 40178 | O9: 40178 | P9: 40178 | Q9: 40178 | R9: 40178 | S9: 40178 | T9: 40178 | U9: 40178 | V9: 40178 | W9: 40178 | X9: 40178 | Y9: 40178 | Z9: 40178 | AA9: 39082 | AB9: 39082 | AC9: 39082 | AD9: 39082 | AE9: 39082 | AF9: 39082 | AH9: 39082 | AI9: 39082 | AJ9: 39082 | AK9: 39082 | AL9: 39082 | AM9: 39082 | AN9: 39082 | AO9: 39082 | AP9: 39082 | AQ9: 39082 | AR9: 39082 | AS9: 39082 | AT9: 39082 | AU9: 39082 | AV9: 39082 | AW9: 39082 | AX9: 39082 | AY9: 39082 | AZ9: 39082 | BA9: 40359 | BB9: 40359 | BC9: 40359 | BD9: 40359 | BE9: 40359 | BF9: 40359 | BG9: 40268 | BH9: 40268 | BI9: 40268 | BJ9: 40359 | BK9: 40359 | BL9: 40359 | BM9: 40359 | BN9: 40359 | BO9: 40359 | BP9: 40359 | BQ9: 40359 | BR9: 40359 | BS9: 40359 | BT9: 40359 | BU9: 40359 | BV9: 40359 | BW9: 40359 | BX9: 40359 | BY9: 40359 | BZ9: 40359 | CA9: 40359 | CB9: 40359 | CC9: 40359 | CD9: 40359 | CE9: 40268 | CF9: 40268 | CG9: 40359 | CH9: 40359 | CI9: 40359 | CJ9: 40359 | CK9: 40268 | CL9: 40359 | CM9: 40359 | CN9: 40359 | CO9: 40359 | CP9: 40359 | CQ9: 40359 | CR9: 40268 | CS9: 40268 | CT9: 40268 | CU9: 40268 | CV9: 40268 | CW9: 40268 | CX9: 40268 | CY9: 40268 | CZ9: 40268 | DA9: 40268 | DB9: 40268 | DC9: 40268 | DD9: 40268 | DE9: 40268 | DF9: 40268 | DG9: 40268 | DH9: 40268 | DI9: 40268 | DJ9: 40268 | DK9: 40268 | DL9: 40268 | DM9: 40268 | DN9: 40268 | DO9: 40268 | DP9: 40268 | DQ9: 40268 | DR9: 40268 | DS9: 40268 | DT9: 40268 | DU9: 40268 | DV9: 40268 | DW9: 40268 | DX9: 40268 | DY9: 40268 | DZ9: 40268 | EA9: 40268 | EB9: 40389 | EC9: 40389 | ED9: 40389 | EE9: 40389 | EF9: 40389 | EG9: 40389 | EH9: 40389 | EI9: 40389 | EJ9: 40359 | EK9: 40359 | EL9: 40178 | EM9: 40178 | EN9: 40178 | EO9: 40178 | EP9: 40178 | EQ9: 40178 | ER9: 40178 | ES9: 40178 | ET9: 40178
DE10: REVG=a+m | DF10: a=d+k+l | DG10: b | DH10: c | DI10: d=e+i+j | DJ10: e=f+g+h | DK10: f | DL10: g | DM10: h | DN10: i | DO10: j | DP10: k | DQ10: l | DR10: m | DS10: n | DT10: o | DU10: p | DV10: q=REVG-n | DW10: r
A11: 25903 | B11: _1970 | DE11: 175.4 | DF11: 74.2 | DG11: 0 | DI11: 61.8 | DJ11: 29.4 | DK11: 18.4 | DL11: 11 | DM11: 0 | DO11: 22.7 | DP11: 12.4 | DR11: 101.2 | DY11: 92.9 | DZ11: 36.6 | EA11: 56.3
A12: 26268 | B12: _1971 | DE12: 193.3 | DF12: 85.1 | DG12: 0 | DI12: 71.6 | DJ12: 36.1 | DK12: 20.5 | DL12: 15.6 | DM12: 0 | DO12: 24 | DP12: 13.5 | DR12: 108.2 | DY12: 136.1 | DZ12: 39.4 | EA12: 96.7
A13: 26634 | B13: _1972 | DE13: 215.1 | DF13: 93.3 | DG13: 0 | DI13: 74.5 | DJ13: 38.2 | DK13: 22.1 | DL13: 14.1 | DM13: 2 | DO13: 22.5 | DP13: 18.8 | DR13: 121.8 | DS13: 250.4 | DV13: -35.3 | DY13: 169.7 | DZ13: 42 | EA13: 127.7
A14: 26999 | B14: _1973 | DE14: 261 | DF14: 108.7 | DG14: 0 | DI14: 67.1 | DJ14: 34.2 | DK14: 15 | DL14: 8 | DM14: 11.2 | DO14: 22.9 | DP14: 41.6 | DR14: 152.3 | DS14: 307.5 | DV14: 18.5 | DY14: 213.6 | DZ14: 48 | EA14: 165.6
A15: 27364 | B15: _1974 | DE15: 282.4 | DF15: 144.8 | DG15: 28 | DI15: 100.1 | DJ15: 64 | DK15: 19.9 | DL15: 34.5 | DM15: 9.6 | DO15: 30.8 | DP15: 44.7 | DR15: 137.6 | DS15: 373.9 | DV15: 56.8 | DY15: 269.8 | DZ15: 58.4 | EA15: 211.4
A16: 27729 | B16: _1975 | DE16: 327.7 | DF16: 175.3 | DG16: 34.7 | DI16: 133.8 | DJ16: 130.3 | DK16: 27.5 | DL16: 98 | DM16: 4.8 | DO16: 31.7 | DP16: 41.5 | DR16: 152.4 | DS16: 415.2 | DV16: -42.6 | DY16: 313.9 | DZ16: 79.210991 | EA16: 234.68901
A17: 28095 | B17: _1976 | DE17: 363.4 | DF17: 188.6 | DG17: 45 | DI17: 151.5 | DJ17: 91.8 | DK17: 26 | DL17: 61.4 | DM17: 4.4 | DO17: 41.8 | DP17: 37.1 | DR17: 174.8 | DS17: 409.4 | DV17: -11 | DY17: 315 | DZ17: 79.48857 | EA17: 235.51143
A18: 28460 | B18: _1977 | C18: 1732.3 | D18: 1298.5 | AA18: 693.1 | AB18: 337.7 | AC18: 239.3 | AD18: 41.2 | AE18: 584 | AF18: 600.8 | AG18: =HLOOKUP($A18,computation!$1:$1048576,ROW(computation!$49:$49)-ROW(computation!$1:$1)+1,0) -> 3535.2098 | AH18: =HLOOKUP($A18,computation!$1:$1048576,ROW(computation!$51:$51)-ROW(computation!$1:$1)+1,0) -> 1508.7056 | AI18: =HLOOKUP($A18,computation!$1:$1048576,ROW(computation!$53:$53)-ROW(computation!$1:$1)+1,0) -> 1240.6194 | AJ18: =HLOOKUP($A18,computation!$1:$1048576,ROW(computation!$55:$55)-ROW(computation!$1:$1)+1,0) -> 836.05311 | AK18: =HLOOKUP($A18,computation!$1:$1048576,ROW(computation!$57:$57)-ROW(computation!$1:$1)+1,0) -> 126.9951 | AL18: =HLOOKUP($A18,computation!$1:$1048576,ROW(computation!$59:$59)-ROW(computation!$1:$1)+1,0) -> 1761.1271 | AM18: =HLOOKUP($A18,computation!$1:$1048576,ROW(computation!$61:$61)-ROW(computation!$1:$1)+1,0) -> 2425.1527 | AN18: =D18/AG18*100 -> 36.730494 | AO18: =AA18/AH18*100 -> 45.940044 | AP18: =AB18/AI18*100 -> 27.220274 | AQ18: =AC18/AJ18*100 -> 28.622584 | AR18: =AD18/AK18*100 -> 32.442195 | AS18: =AE18/AL18*100 -> 33.160582 | AT18: =AF18/AM18*100 -> 24.773698 | AU18: 518 | AV18: 616.1 | AW18: 1218.7 | AX18: 79.7 | AY18: -26.7 | AZ18: 1271.7 | BA18: 99.975 | BB18: 40.89 | BC18: =BA18-BB18 -> 59.085 | DE18: 176.6 | DF18: 88.9 | DG18: 35 | DI18: 74.5 | DJ18: 49.7 | DK18: 13.9 | DL18: 33.5 | DM18: 2.3 | DO18: 26 | DP18: 14.4 | DR18: 87.7 | DS18: 211.1 | DV18: -17.5 | DY18: 341.2 | DZ18: 86.1 | EA18: 255.1 | EJ18: =SUMIF(quarterly!$D:CK,$B18,quarterly!CK:CK)/COUNTIF(quarterly!$D:$D,$B18) -> 36.475
A19: 28825 | B19: _1978 | C19: 1834.7 | D19: 1380.9 | AA19: 771.8 | AB19: 353.3 | AC19: 268.5 | AD19: 43.9 | AE19: 579.1 | AF19: 627.2 | AG19: =HLOOKUP($A19,computation!$1:$1048576,ROW(computation!$49:$49)-ROW(computation!$1:$1)+1,0) -> 3744.1837 | AH19: =HLOOKUP($A19,computation!$1:$1048576,ROW(computation!$51:$51)-ROW(computation!$1:$1)+1,0) -> 1543.985 | AI19: =HLOOKUP($A19,computation!$1:$1048576,ROW(computation!$53:$53)-ROW(computation!$1:$1)+1,0) -> 1272.229 | AJ19: =HLOOKUP($A19,computation!$1:$1048576,ROW(computation!$55:$55)-ROW(computation!$1:$1)+1,0) -> 914.19981 | AK19: =HLOOKUP($A19,computation!$1:$1048576,ROW(computation!$57:$57)-ROW(computation!$1:$1)+1,0) -> 133.22221 | AL19: =HLOOKUP($A19,computation!$1:$1048576,ROW(computation!$59:$59)-ROW(computation!$1:$1)+1,0) -> 1920.1829 | AM19: =HLOOKUP($A19,computation!$1:$1048576,ROW(computation!$61:$61)-ROW(computation!$1:$1)+1,0) -> 2475.4966 | AN19: =D19/AG19*100 -> 36.881203 | AO19: =AA19/AH19*100 -> 49.987533 | AP19: =AB19/AI19*100 -> 27.770157 | AQ19: =AC19/AJ19*100 -> 29.369947 | AR19: =AD19/AK19*100 -> 32.952465 | AS19: =AE19/AL19*100 -> 30.158586 | AT19: =AF19/AM19*100 -> 25.336331 | AU19: 540.9 | AV19: 659.5 | AW19: 1298.5 | AX19: 82.5 | AY19: -19.4 | AZ19: 1361.6 | BA19: 105.775 | BB19: 42.556268 | BC19: =BA19-BB19 -> 63.218733 | BD19: =(BA19/BA18-1)*100 -> 5.8014504 | BE19: =(BB19/BB18-1)*100 -> 4.075 | BF19: =(BC19/BC18-1)*100 -> 6.9962469 | DE19: 414.2 | DF19: 242.3 | DG19: 31.2 | DI19: 205.8 | DJ19: 136 | DK19: 67.1 | DL19: 62.7 | DM19: 6.2 | DO19: 47.8 | DP19: 36.5 | DR19: 171.9 | DS19: 461.3 | DV19: -15.9 | DY19: 350.2 | DZ19: 97.1 | EA19: 253.1 | EJ19: =SUMIF(quarterly!$D:CK,$B19,quarterly!CK:CK)/COUNTIF(quarterly!$D:$D,$B19) -> 39.375 | EK19: =(EJ19/EJ18-1)*100 -> 7.9506511
A20: 29190 | B20: _1979 | C20: 1888.9 | D20: 1614.5 | AA20: 852.9 | AB20: 367.7 | AC20: 318.7 | AD20: 54.8 | AE20: 742.5 | AF20: 744.3 | AG20: =HLOOKUP($A20,computation!$1:$1048576,ROW(computation!$49:$49)-ROW(computation!$1:$1)+1,0) -> 3854.7929 | AH20: =HLOOKUP($A20,computation!$1:$1048576,ROW(computation!$51:$51)-ROW(computation!$1:$1)+1,0) -> 1592.4772 | AI20: =HLOOKUP($A20,computation!$1:$1048576,ROW(computation!$53:$53)-ROW(computation!$1:$1)+1,0) -> 1278.9201 | AJ20: =HLOOKUP($A20,computation!$1:$1048576,ROW(computation!$55:$55)-ROW(computation!$1:$1)+1,0) -> 1030.6034 | AK20: =HLOOKUP($A20,computation!$1:$1048576,ROW(computation!$57:$57)-ROW(computation!$1:$1)+1,0) -> 150.39391 | AL20: =HLOOKUP($A20,computation!$1:$1048576,ROW(computation!$59:$59)-ROW(computation!$1:$1)+1,0) -> 1910.2753 | AM20: =HLOOKUP($A20,computation!$1:$1048576,ROW(computation!$61:$61)-ROW(computation!$1:$1)+1,0) -> 2668.4816 | AN20: =D20/AG20*100 -> 41.882924 | AO20: =AA20/AH20*100 -> 53.558068 | AP20: =AB20/AI20*100 -> 28.750819 | AQ20: =AC20/AJ20*100 -> 30.923631 | AR20: =AD20/AK20*100 -> 36.437647 | AS20: =AE20/AL20*100 -> 38.868742 | AT20: =AF20/AM20*100 -> 27.892267 | AU20: 590.5 | AV20: 819.4 | AW20: 1515.5 | AX20: 99 | AY20: -39.6 | AZ20: 1574.9 | BA20: 111.9 | BB20: 44.508765 | BC20: =BA20-BB20 -> 67.391235 | BD20: =(BA20/BA19-1)*100 -> 5.7905932 | BE20: =(BB20/BB19-1)*100 -> 4.5880375 | BF20: =(BC20/BC19-1)*100 -> 6.6001046 | DE20: 421.1 | DF20: 244.9 | DG20: 38.5 | DI20: 206.2 | DJ20: 135.3 | DK20: 61.6 | DL20: 63.9 | DM20: 9.8 | DO20: 56.3 | DP20: 38.7 | DR20: 176.2 | DS20: 504.4 | DV20: -44.8 | DY20: 411.8 | DZ20: 141.7 | EA20: 270.1 | EJ20: =SUMIF(quarterly!$D:CK,$B20,quarterly!CK:CK)/COUNTIF(quarterly!$D:$D,$B20) -> 42.95 | EK20: =(EJ20/EJ19-1)*100 -> 9.0793651
A21: 29556 | B21: _1980 | C21: 1870.7 | D21: 1708.1 | AA21: 1051.3 | AB21: 411.2 | AC21: 394.2 | AD21: 36.4 | AE21: 737.6 | AF21: 910.8 | AG21: =HLOOKUP($A21,computation!$1:$1048576,ROW(computation!$49:$49)-ROW(computation!$1:$1)+1,0) -> 3817.6511 | AH21: =HLOOKUP($A21,computation!$1:$1048576,ROW(computation!$51:$51)-ROW(computation!$1:$1)+1,0) -> 1728.5549 | AI21: =HLOOKUP($A21,computation!$1:$1048576,ROW(computation!$53:$53)-ROW(computation!$1:$1)+1,0) -> 1241.0809 | AJ21: =HLOOKUP($A21,computation!$1:$1048576,ROW(computation!$55:$55)-ROW(computation!$1:$1)+1,0) -> 1185.2639 | AK21: =HLOOKUP($A21,computation!$1:$1048576,ROW(computation!$57:$57)-ROW(computation!$1:$1)+1,0) -> 90.009903 | AL21: =HLOOKUP($A21,computation!$1:$1048576,ROW(computation!$59:$59)-ROW(computation!$1:$1)+1,0) -> 1915.8985 | AM21: =HLOOKUP($A21,computation!$1:$1048576,ROW(computation!$61:$61)-ROW(computation!$1:$1)+1,0) -> 2920.2011 | AN21: =D21/AG21*100 -> 44.742172 | AO21: =AA21/AH21*100 -> 60.819591 | AP21: =AB21/AI21*100 -> 33.13241 | AQ21: =AC21/AJ21*100 -> 33.258416 | AR21: =AD21/AK21*100 -> 40.439994 | AS21: =AE21/AL21*100 -> 38.498908 | AT21: =AF21/AM21*100 -> 31.189633 | AU21: 676.1 | AV21: 797.1 | AW21: 1598.1 | AX21: 110 | AY21: -58.7 | AZ21: 1649.4 | BA21: 125.425 | BB21: 51.981412 | BC21: =BA21-BB21 -> 73.443588 | BD21: =(BA21/BA20-1)*100 -> 12.086685 | BE21: =(BB21/BB20-1)*100 -> 16.789159 | BF21: =(BC21/BC20-1)*100 -> 8.9809194 | DE21: 465.6 | DF21: 290.1 | DG21: 56.5 | DI21: 241.6 | DJ21: 214.6 | DK21: 75.9 | DL21: 120.9 | DM21: 17.8 | DO21: 64.5 | DP21: 48.5 | DR21: 175.5 | DS21: 597.8 | DV21: -75.7 | DY21: 480.4 | DZ21: 176.2 | EA21: 304.2 | EJ21: =SUMIF(quarterly!$D:CK,$B21,quarterly!CK:CK)/COUNTIF(quarterly!$D:$D,$B21) -> 47.325 | EK21: =(EJ21/EJ20-1)*100 -> 10.186263 | EL21: 59.187 | EM21: 8.531 | EN21: 2.598 | EO21: 10.047 | EP21: 3.181 | EQ21: -1.891 | ER21: 1.847 | ES21: 2295.48 | ET21: -2318.295
A22: 29921 | B22: _1981 | C22: 1892.2 | D22: 1681.2 | AA22: 1104.2 | AB22: 454.4 | AC22: 450.7 | AD22: 7.4 | AE22: 642.9 | AF22: 987.6 | AG22: =HLOOKUP($A22,computation!$1:$1048576,ROW(computation!$49:$49)-ROW(computation!$1:$1)+1,0) -> 3861.5274 | AH22: =HLOOKUP($A22,computation!$1:$1048576,ROW(computation!$51:$51)-ROW(computation!$1:$1)+1,0) -> 1673.3882 | AI22: =HLOOKUP($A22,computation!$1:$1048576,ROW(computation!$53:$53)-ROW(computation!$1:$1)+1,0) -> 1193.3204 | AJ22: =HLOOKUP($A22,computation!$1:$1048576,ROW(computation!$55:$55)-ROW(computation!$1:$1)+1,0) -> 1215.1229 | AK22: =HLOOKUP($A22,computation!$1:$1048576,ROW(computation!$57:$57)-ROW(computation!$1:$1)+1,0) -> 16.416901 | AL22: =HLOOKUP($A22,computation!$1:$1048576,ROW(computation!$59:$59)-ROW(computation!$1:$1)+1,0) -> 2019.258 | AM22: =HLOOKUP($A22,computation!$1:$1048576,ROW(computation!$61:$61)-ROW(computation!$1:$1)+1,0) -> 2925.2864 | AN22: =D22/AG22*100 -> 43.537176 | AO22: =AA22/AH22*100 -> 65.985883 | AP22: =AB22/AI22*100 -> 38.078626 | AQ22: =AC22/AJ22*100 -> 37.090897 | AR22: =AD22/AK22*100 -> 45.0755 | AS22: =AE22/AL22*100 -> 31.838428 | AT22: =AF22/AM22*100 -> 33.760797 | AU22: 747.7 | AV22: 681.4 | AW22: 1566.7 | AX22: 114.6 | AY22: -60.4 | AZ22: 1620.9 | BA22: 135.55 | BB22: 56.10108 | BC22: =BA22-BB22 -> 79.44892 | BD22: =(BA22/BA21-1)*100 -> 8.0725533 | BE22: =(BB22/BB21-1)*100 -> 7.9252704 | BF22: =(BC22/BC21-1)*100 -> 8.1767962 | DE22: 486.8 | DF22: 302.8 | DG22: 81.4 | DI22: 263.3 | DJ22: 201.3 | DK22: 94.8 | DL22: 95.3 | DM22: 11.2 | DO22: 68.2 | DP22: 39.5 | DR22: 184 | DS22: 658.8 | DV22: -90.6 | DY22: 544.2 | DZ22: 154.3 | EA22: 389.9 | EJ22: =SUMIF(quarterly!$D:CK,$B22,quarterly!CK:CK)/COUNTIF(quarterly!$D:$D,$B22) -> 51.875 | EK22: =(EJ22/EJ21-1)*100 -> 9.6143687 | EL22: 64.033 | EM22: 8.186 | EN22: 4.156 | EO22: 10.726 | EP22: 4.177 | EQ22: 7.404 | ER22: 2.242 | ES22: 2286.295 | ET22: -2304.761
A23: 30286 | B23: _1982 | C23: 1930.4 | D23: 1749.1 | AA23: 1117.9 | AB23: 468.1 | AC23: 576.7 | AD23: -14.2 | AE23: 644.3 | AF23: 1058.2 | AG23: =HLOOKUP($A23,computation!$1:$1048576,ROW(computation!$49:$49)-ROW(computation!$1:$1)+1,0) -> 3939.4845 | AH23: =HLOOKUP($A23,computation!$1:$1048576,ROW(computation!$51:$51)-ROW(computation!$1:$1)+1,0) -> 1629.6636 | AI23: =HLOOKUP($A23,computation!$1:$1048576,ROW(computation!$53:$53)-ROW(computation!$1:$1)+1,0) -> 1162.1722 | AJ23: =HLOOKUP($A23,computation!$1:$1048576,ROW(computation!$55:$55)-ROW(computation!$1:$1)+1,0) -> 1433.2339 | AK23: =HLOOKUP($A23,computation!$1:$1048576,ROW(computation!$57:$57)-ROW(computation!$1:$1)+1,0) -> -28.305001 | AL23: =HLOOKUP($A23,computation!$1:$1048576,ROW(computation!$59:$59)-ROW(computation!$1:$1)+1,0) -> 2011.7604 | AM23: =HLOOKUP($A23,computation!$1:$1048576,ROW(computation!$61:$61)-ROW(computation!$1:$1)+1,0) -> 2890.7067 | AN23: =D23/AG23*100 -> 44.39921 | AO23: =AA23/AH23*100 -> 68.596981 | AP23: =AB23/AI23*100 -> 40.278024 | AQ23: =AC23/AJ23*100 -> 40.237675 | AR23: =AD23/AK23*100 -> 50.167813 | AS23: =AE23/AL23*100 -> 32.026677 | AT23: =AF23/AM23*100 -> 36.606965 | AU23: 763.4 | AV23: 701.2 | AW23: 1614.6 | AX23: 134.4 | AY23: -72.5 | AZ23: 1676.5 | BA23: 143.05 | BB23: 58.820265 | BC23: =BA23-BB23 -> 84.229735 | BD23: =(BA23/BA22-1)*100 -> 5.5330136 | BE23: =(BB23/BB22-1)*100 -> 4.8469388 | BF23: =(BC23/BC22-1)*100 -> 6.0174701 | DE23: 534 | DF23: 347.3 | DG23: 40 | DI23: 292.7 | DJ23: 176.4 | DK23: 108.7 | DL23: 61.7 | DM23: 6 | DO23: 82.1 | DP23: 54.6 | DR23: 186.7 | DS23: 667.1 | DV23: -93.1 | DY23: 654.7 | DZ23: 169.3 | EA23: 485.4 | EJ23: =SUMIF(quarterly!$D:CK,$B23,quarterly!CK:CK)/COUNTIF(quarterly!$D:$D,$B23) -> 57.7 | EK23: =(EJ23/EJ22-1)*100 -> 11.228916 | EL23: 66.542 | EM23: 3.92 | EN23: -0.01 | EO23: 7.186 | EP23: 3.377 | EQ23: 8.291 | ER23: 0.708 | ES23: 2123.577 | ET23: -2160.732
A24: 30651 | B24: _1983 | C24: 2145.4999 | D24: 2145.4 | AA24: 1385.6 | AB24: 498.8 | AC24: 636.9 | AD24: -6.2 | AE24: 775.5 | AF24: 1145.2 | AG24: =HLOOKUP($A24,computation!$1:$1048576,ROW(computation!$49:$49)-ROW(computation!$1:$1)+1,0) -> 4378.4519 | AH24: =HLOOKUP($A24,computation!$1:$1048576,ROW(computation!$51:$51)-ROW(computation!$1:$1)+1,0) -> 1887.3803 | AI24: =HLOOKUP($A24,computation!$1:$1048576,ROW(computation!$53:$53)-ROW(computation!$1:$1)+1,0) -> 1150.8666 | AJ24: =HLOOKUP($A24,computation!$1:$1048576,ROW(computation!$55:$55)-ROW(computation!$1:$1)+1,0) -> 1485.7205 | AK24: =HLOOKUP($A24,computation!$1:$1048576,ROW(computation!$57:$57)-ROW(computation!$1:$1)+1,0) -> -11.6994 | AL24: =HLOOKUP($A24,computation!$1:$1048576,ROW(computation!$59:$59)-ROW(computation!$1:$1)+1,0) -> 2076.6945 | AM24: =HLOOKUP($A24,computation!$1:$1048576,ROW(computation!$61:$61)-ROW(computation!$1:$1)+1,0) -> 2911.6833 | AN24: =D24/AG24*100 -> 48.999054 | AO24: =AA24/AH24*100 -> 73.413926 | AP24: =AB24/AI24*100 -> 43.341253 | AQ24: =AC24/AJ24*100 -> 42.86809 | AR24: =AD24/AK24*100 -> 52.994169 | AS24: =AE24/AL24*100 -> 37.342999 | AT24: =AF24/AM24*100 -> 39.3312 | AU24: 843.65 | AV24: 977.145 | AW24: 1993.545 | AX24: 151.901 | AY24: -119.4 | AZ24: 2026.046 | BA24: 154.3 | BB24: 61.437225 | BC24: =BA24-BB24 -> 92.862775 | BD24: =(BA24/BA23-1)*100 -> 7.8643831 | BE24: =(BB24/BB23-1)*100 -> 4.4490789 | BF24: =(BC24/BC23-1)*100 -> 10.249397 | DE24: 628.5 | DF24: 415.7 | DG24: 13 | DI24: 337 | DJ24: 183.4 | DK24: 118.6 | DL24: 57.3 | DM24: 7.5 | DN24: 51.5 | DO24: 93.3 | DP24: 78.7 | DR24: 212.8 | DS24: 713.1 | DV24: -81.9 | DY24: 806.5 | DZ24: 146 | EA24: 660.5 | EJ24: =SUMIF(quarterly!$D:CK,$B24,quarterly!CK:CK)/COUNTIF(quarterly!$D:$D,$B24) -> 63.5 | EK24: =(EJ24/EJ23-1)*100 -> 10.051993 | EL24: 67.231 | EM24: 1.034 | EN24: -0.526 | EO24: 8.568 | EP24: 3.061 | EQ24: 12.182 | ER24: 2.819 | ES24: 2066.685 | ET24: -2101.628
A25: 31017 | B25: _1984 | C25: 2124.259 | D25: 2282.2 | AA25: 1445.7 | AB25: 531.8 | AC25: 547.5 | AD25: 71.5 | AE25: 904.7 | AF25: 1219 | AG25: =HLOOKUP($A25,computation!$1:$1048576,ROW(computation!$49:$49)-ROW(computation!$1:$1)+1,0) -> 4335.1043 | AH25: =HLOOKUP($A25,computation!$1:$1048576,ROW(computation!$51:$51)-ROW(computation!$1:$1)+1,0) -> 1865.3137 | AI25: =HLOOKUP($A25,computation!$1:$1048576,ROW(computation!$53:$53)-ROW(computation!$1:$1)+1,0) -> 1158.7113 | AJ25: =HLOOKUP($A25,computation!$1:$1048576,ROW(computation!$55:$55)-ROW(computation!$1:$1)+1,0) -> 1198.094 | AK25: =HLOOKUP($A25,computation!$1:$1048576,ROW(computation!$57:$57)-ROW(computation!$1:$1)+1,0) -> 120.0132 | AL25: =HLOOKUP($A25,computation!$1:$1048576,ROW(computation!$59:$59)-ROW(computation!$1:$1)+1,0) -> 2142.0281 | AM25: =HLOOKUP($A25,computation!$1:$1048576,ROW(computation!$61:$61)-ROW(computation!$1:$1)+1,0) -> 2859.1528 | AN25: =D25/AG25*100 -> 52.644639 | AO25: =AA25/AH25*100 -> 77.504391 | AP25: =AB25/AI25*100 -> 45.895815 | AQ25: =AC25/AJ25*100 -> 45.697584 | AR25: =AD25/AK25*100 -> 59.576778 | AS25: =AE25/AL25*100 -> 42.235674 | AT25: =AF25/AM25*100 -> 42.635008 | AU25: 881 | AV25: 1004 | AW25: 2102.9 | AX25: 179.3 | AY25: -72.4 | AZ25: 2209.8 | BA25: 165.75 | BB25: 65.822677 | BC25: =BA25-BB25 -> 99.927323 | BD25: =(BA25/BA24-1)*100 -> 7.4206092 | BE25: =(BB25/BB24-1)*100 -> 7.1381032 | BF25: =(BC25/BC24-1)*100 -> 7.6075128 | DE25: 719.3 | DF25: 490.9 | DG25: 39.3 | DI25: 412.8 | DJ25: 231 | DK25: 132.2 | DL25: 88 | DM25: 10.8 | DN25: 58.5 | DO25: 112.3 | DP25: 78.1 | DR25: 228.4 | DS25: 771.9 | DV25: -102 | DY25: 939.85 | DZ25: 169.95 | EA25: 769.9 | EJ25: =SUMIF(quarterly!$D:CK,$B25,quarterly!CK:CK)/COUNTIF(quarterly!$D:$D,$B25) -> 66 | EK25: =(EJ25/EJ24-1)*100 -> 3.9370079 | EL25: 68.983 | EM25: 2.607 | EN25: 6.414 | EO25: 8.825 | EP25: 4.464 | EQ25: 9.859 | ER25: 4.898 | ES25: 2178.558 | ET25: -2213.544
A26: 31382 | B26: _1985 | C26: 2200.7 | D26: 2402.6 | AA26: 1599.9 | AB26: 572.4 | AC26: 446.8 | AD26: 33.8 | AE26: 1020.9 | AF26: 1271.2 | AG26: =HLOOKUP($A26,computation!$1:$1048576,ROW(computation!$49:$49)-ROW(computation!$1:$1)+1,0) -> 4491.1021 | AH26: =HLOOKUP($A26,computation!$1:$1048576,ROW(computation!$51:$51)-ROW(computation!$1:$1)+1,0) -> 2000.9828 | AI26: =HLOOKUP($A26,computation!$1:$1048576,ROW(computation!$53:$53)-ROW(computation!$1:$1)+1,0) -> 1200.7036 | AJ26: =HLOOKUP($A26,computation!$1:$1048576,ROW(computation!$55:$55)-ROW(computation!$1:$1)+1,0) -> 911.40053 | AK26: =HLOOKUP($A26,computation!$1:$1048576,ROW(computation!$57:$57)-ROW(computation!$1:$1)+1,0) -> 45.854102 | AL26: =HLOOKUP($A26,computation!$1:$1048576,ROW(computation!$59:$59)-ROW(computation!$1:$1)+1,0) -> 2404.3121 | AM26: =HLOOKUP($A26,computation!$1:$1048576,ROW(computation!$61:$61)-ROW(computation!$1:$1)+1,0) -> 2800.9522 | AN26: =D26/AG26*100 -> 53.496891 | AO26: =AA26/AH26*100 -> 79.955712 | AP26: =AB26/AI26*100 -> 47.672047 | AQ26: =AC26/AJ26*100 -> 49.023452 | AR26: =AD26/AK26*100 -> 73.712053 | AS26: =AE26/AL26*100 -> 42.46121 | AT26: =AF26/AM26*100 -> 45.384567 | AU26: 944.2 | AV26: 1045.3 | AW26: 2212.9 | AX26: 189.7 | AY26: -88.5 | AZ26: 2314.1 | BA26: 171.85 | BB26: 68.36808 | BC26: =BA26-BB26 -> 103.48192 | BD26: =(BA26/BA25-1)*100 -> 3.6802413 | BE26: =(BB26/BB25-1)*100 -> 3.8670601 | BF26: =(BC26/BC25-1)*100 -> 3.5571828 | DE26: 739.2 | DF26: 523.7 | DG26: 15.2 | DI26: 421.5 | DJ26: 225.8 | DK26: 133 | DL26: 84.8 | DM26: 8 | DN26: 61.8 | DO26: 117 | DP26: 102.2 | DR26: 215.5 | DS26: 804.16667 | DV26: -64.966667 | DY26: 1073.2 | DZ26: 193.9 | EA26: 879.3 | EJ26: =SUMIF(quarterly!$D:CK,$B26,quarterly!CK:CK)/COUNTIF(quarterly!$D:$D,$B26) -> 70.45 | EK26: =(EJ26/EJ25-1)*100 -> 6.7424242 | EL26: 69.322 | EM26: 0.491 | EN26: 5.716 | EO26: -0.65 | EP26: 6.333 | EQ26: 7.471 | ER26: 3.944 | ES26: 2208.692 | ET26: -2232.917
A27: 31747 | B27: _1986 | C27: 2324.51 | D27: 2572.5 | AA27: 1673.6 | AB27: 591.1 | AC27: 539.2 | AD27: -31.5 | AE27: 1121 | AF27: 1321 | AG27: =HLOOKUP($A27,computation!$1:$1048576,ROW(computation!$49:$49)-ROW(computation!$1:$1)+1,0) -> 4743.7687 | AH27: =HLOOKUP($A27,computation!$1:$1048576,ROW(computation!$51:$51)-ROW(computation!$1:$1)+1,0) -> 1977.9626 | AI27: =HLOOKUP($A27,computation!$1:$1048576,ROW(computation!$53:$53)-ROW(computation!$1:$1)+1,0) -> 1178.7846 | AJ27: =HLOOKUP($A27,computation!$1:$1048576,ROW(computation!$55:$55)-ROW(computation!$1:$1)+1,0) -> 1070.2599 | AK27: =HLOOKUP($A27,computation!$1:$1048576,ROW(computation!$57:$57)-ROW(computation!$1:$1)+1,0) -> -44.721902 | AL27: =HLOOKUP($A27,computation!$1:$1048576,ROW(computation!$59:$59)-ROW(computation!$1:$1)+1,0) -> 2692.859 | AM27: =HLOOKUP($A27,computation!$1:$1048576,ROW(computation!$61:$61)-ROW(computation!$1:$1)+1,0) -> 2744.122 | AN27: =D27/AG27*100 -> 54.229036 | AO27: =AA27/AH27*100 -> 84.612318 | AP27: =AB27/AI27*100 -> 50.144871 | AQ27: =AC27/AJ27*100 -> 50.380284 | AR27: =AD27/AK27*100 -> 70.435287 | AS27: =AE27/AL27*100 -> 41.628619 | AT27: =AF27/AM27*100 -> 48.139259 | AU27: 981.976 | AV27: 1119.542 | AW27: 2342.97 | AX27: 229.509 | AY27: -72.1 | AZ27: 2500.379 | BA27: 181.25 | BB27: 70.08546 | BC27: =BA27-BB27 -> 111.16454 | BD27: =(BA27/BA26-1)*100 -> 5.4698865 | BE27: =(BB27/BB26-1)*100 -> 2.5119617 | BF27: =(BC27/BC26-1)*100 -> 7.4241181 | DE27: 787.4 | DF27: 582.7 | DG27: 18.8 | DI27: 441.3 | DJ27: 227 | DK27: 145 | DL27: 70.8 | DM27: 11.2 | DN27: 65.2 | DO27: 137 | DP27: 141.4 | DR27: 204.7 | DS27: 836.43333 | DV27: -49.033333 | DY27: 1175.3 | DZ27: 233.5 | EA27: 941.8 | EJ27: =SUMIF(quarterly!$D:CK,$B27,quarterly!CK:CK)/COUNTIF(quarterly!$D:$D,$B27) -> 76.85 | EK27: =(EJ27/EJ26-1)*100 -> 9.0844571 | EL27: 68.366 | EM27: -1.379 | EN27: 2.111 | EO27: 1.287 | EP27: 2.831 | EQ27: 12.24 | ER27: 3.464 | ES27: 2456.437 | ET27: -2466.841
A28: 32112 | B28: _1987 | C28: 2388.899 | D28: 2854.4 | AA28: 1814.9 | AB28: 639.7 | AC28: 551.2 | AD28: 34.1 | AE28: 1232.1 | AF28: 1417.8 | AG28: =HLOOKUP($A28,computation!$1:$1048576,ROW(computation!$49:$49)-ROW(computation!$1:$1)+1,0) -> 4875.1712 | AH28: =HLOOKUP($A28,computation!$1:$1048576,ROW(computation!$51:$51)-ROW(computation!$1:$1)+1,0) -> 2043.2091 | AI28: =HLOOKUP($A28,computation!$1:$1048576,ROW(computation!$53:$53)-ROW(computation!$1:$1)+1,0) -> 1214.778 | AJ28: =HLOOKUP($A28,computation!$1:$1048576,ROW(computation!$55:$55)-ROW(computation!$1:$1)+1,0) -> 1056.3802 | AK28: =HLOOKUP($A28,computation!$1:$1048576,ROW(computation!$57:$57)-ROW(computation!$1:$1)+1,0) -> 47.269352 | AL28: =HLOOKUP($A28,computation!$1:$1048576,ROW(computation!$59:$59)-ROW(computation!$1:$1)+1,0) -> 2665.7874 | AM28: =HLOOKUP($A28,computation!$1:$1048576,ROW(computation!$61:$61)-ROW(computation!$1:$1)+1,0) -> 2824.9799 | AN28: =D28/AG28*100 -> 58.549739 | AO28: =AA28/AH28*100 -> 88.825956 | AP28: =AB28/AI28*100 -> 52.659829 | AQ28: =AC28/AJ28*100 -> 52.178185 | AR28: =AD28/AK28*100 -> 72.139766 | AS28: =AE28/AL28*100 -> 46.21899 | AT28: =AF28/AM28*100 -> 50.187967 | AU28: 1052.241 | AV28: 1276.204 | AW28: 2590.411 | AX28: 263.941 | AY28: -130.5 | AZ28: 2723.852 | BA28: 187.325 | BB28: 71.76195 | BC28: =BA28-BB28 -> 115.56305 | BD28: =(BA28/BA27-1)*100 -> 3.3517241 | BE28: =(BB28/BB27-1)*100 -> 2.3920653 | BF28: =(BC28/BC27-1)*100 -> 3.9567564 | DE28: 850.7 | DF28: 666.4 | DG28: 50.4 | DI28: 501.4 | DJ28: 271.6 | DK28: 146.8 | DL28: 65.7 | DM28: 59.1 | DN28: 68.3 | DO28: 161.5 | DP28: 165 | DQ28: 0 | DR28: 184.3 | DS28: 868.7 | DV28: -30.9 | DY28: 1210.4 | DZ28: 249 | EA28: 961.4 | EJ28: =SUMIF(quarterly!$D:CK,$B28,quarterly!CK:CK)/COUNTIF(quarterly!$D:$D,$B28) -> 83.375 | EK28: =(EJ28/EJ27-1)*100 -> 8.490566 | EL28: 68.695 | EM28: 0.481 | EN28: 4.396 | EO28: 10.772 | EP28: 4.107 | EQ28: 12.266 | ER28: 3.749 | ES28: 2928.78 | ET28: -2925.994
A29: 32478 | B29: _1988 | C29: 2458.398 | D29: 3169.939 | AA29: 1919.4 | AB29: 662.899 | AC29: 737 | AD29: 125.5 | AE29: 1371.14 | AF29: 1646 | AG29: =HLOOKUP($A29,computation!$1:$1048576,ROW(computation!$49:$49)-ROW(computation!$1:$1)+1,0) -> 5017.002 | AH29: =HLOOKUP($A29,computation!$1:$1048576,ROW(computation!$51:$51)-ROW(computation!$1:$1)+1,0) -> 2049.3387 | AI29: =HLOOKUP($A29,computation!$1:$1048576,ROW(computation!$53:$53)-ROW(computation!$1:$1)+1,0) -> 1194.1256 | AJ29: =HLOOKUP($A29,computation!$1:$1048576,ROW(computation!$55:$55)-ROW(computation!$1:$1)+1,0) -> 1334.6734 | AK29: =HLOOKUP($A29,computation!$1:$1048576,ROW(computation!$57:$57)-ROW(computation!$1:$1)+1,0) -> 192.85141 | AL29: =HLOOKUP($A29,computation!$1:$1048576,ROW(computation!$59:$59)-ROW(computation!$1:$1)+1,0) -> 2627.6327 | AM29: =HLOOKUP($A29,computation!$1:$1048576,ROW(computation!$61:$61)-ROW(computation!$1:$1)+1,0) -> 3100.2187 | AN29: =D29/AG29*100 -> 63.183929 | AO29: =AA29/AH29*100 -> 93.659481 | AP29: =AB29/AI29*100 -> 55.51334 | AQ29: =AC29/AJ29*100 -> 55.219501 | AR29: =AD29/AK29*100 -> 65.076009 | AS29: =AE29/AL29*100 -> 52.18157 | AT29: =AF29/AM29*100 -> 53.093028 | AU29: 1160.34 | AV29: 1447.1 | AW29: 2886.64 | AX29: 283.249 | AY29: -122.1 | AZ29: 3047.789 | BA29: 197.525 | BB29: 74.54247 | BC29: =BA29-BB29 -> 122.98253 | BD29: =(BA29/BA28-1)*100 -> 5.4450821 | BE29: =(BB29/BB28-1)*100 -> 3.8746439 | BF29: =(BC29/BC28-1)*100 -> 6.4202875 | DE29: 905 | DF29: 715.1 | DG29: 91.8 | DI29: 570.4 | DJ29: 330 | DK29: 156.8 | DL29: 82.6 | DM29: 90.6 | DN29: 67 | DO29: 173.4 | DP29: 144.7 | DQ29: 0 | DR29: 189.9 | DS29: 953.3 | DV29: -30.4 | DY29: 1154.3 | DZ29: 304 | EA29: 850.3 | EJ29: =SUMIF(quarterly!$D:CK,$B29,quarterly!CK:CK)/COUNTIF(quarterly!$D:$D,$B29) -> 89.425 | EK29: =(EJ29/EJ28-1)*100 -> 7.2563718 | EL29: 69.742 | EM29: 1.524 | EN29: 4.03 | EO29: 11.073 | EP29: 7.147 | EQ29: 11.661 | ER29: 4.476 | ES29: 3326.027 | ET29: -3323.226
A30: 32843 | B30: _1989 | C30: 2423.401 | D30: 3045.73 | AA30: 1962 | AB30: 744.879 | AC30: 790.7 | AD30: -83.4 | AE30: 1238.04 | AF30: 1606.489 | AG30: =HLOOKUP($A30,computation!$1:$1048576,ROW(computation!$49:$49)-ROW(computation!$1:$1)+1,0) -> 4945.5815 | AH30: =HLOOKUP($A30,computation!$1:$1048576,ROW(computation!$51:$51)-ROW(computation!$1:$1)+1,0) -> 2024.684 | AI30: =HLOOKUP($A30,computation!$1:$1048576,ROW(computation!$53:$53)-ROW(computation!$1:$1)+1,0) -> 1265.5379 | AJ30: =HLOOKUP($A30,computation!$1:$1048576,ROW(computation!$55:$55)-ROW(computation!$1:$1)+1,0) -> 1368.2672 | AK30: =HLOOKUP($A30,computation!$1:$1048576,ROW(computation!$57:$57)-ROW(computation!$1:$1)+1,0) -> -139.54177 | AL30: =HLOOKUP($A30,computation!$1:$1048576,ROW(computation!$59:$59)-ROW(computation!$1:$1)+1,0) -> 2604.0689 | AM30: =HLOOKUP($A30,computation!$1:$1048576,ROW(computation!$61:$61)-ROW(computation!$1:$1)+1,0) -> 2788.239 | AN30: =D30/AG30*100 -> 61.584871 | AO30: =AA30/AH30*100 -> 96.904012 | AP30: =AB30/AI30*100 -> 58.858686 | AQ30: =AC30/AJ30*100 -> 57.788422 | AR30: =AD30/AK30*100 -> 59.767051 | AS30: =AE30/AL30*100 -> 47.542521 | AT30: =AF30/AM30*100 -> 57.616617 | AU30: 1268.5 | AV30: 1115.6 | AW30: 2699.64 | AX30: 346.04 | AY30: -115 | AZ30: 2930.68 | BA30: 206.375 | BB30: 77.435437 | BC30: =BA30-BB30 -> 128.93956 | BD30: =(BA30/BA29-1)*100 -> 4.4804455 | BE30: =(BB30/BB29-1)*100 -> 3.8809654 | BF30: =(BC30/BC29-1)*100 -> 4.8438038 | DE30: 1013.4 | DF30: 823.7 | DG30: 123.2 | DI30: 688.7 | DJ30: 390.2 | DK30: 172.7 | DL30: 85.3 | DM30: 132.2 | DN30: 82.5 | DO30: 216 | DP30: 135 | DQ30: 0 | DR30: 189.7 | DS30: 1049.1 | DV30: -35.2 | DY30: 1211 | DZ30: 367.9 | EA30: 843.1 | EJ30: =SUMIF(quarterly!$D:CK,$B30,quarterly!CK:CK)/COUNTIF(quarterly!$D:$D,$B30) -> 96.175 | EK30: =(EJ30/EJ29-1)*100 -> 7.5482248 | EL30: 71.342 | EM30: 2.294 | EN30: 4.241 | EO30: 10.228 | EP30: 5.37 | EQ30: 6.752 | ER30: 3.843 | ES30: 3596.742 | ET30: -3607.072
A31: 33208 | B31: _1990 | C31: 2350.81 | D31: 3076.139 | AA31: 1816.3 | AB31: 763.94 | AC31: 772.8 | AD31: -21 | AE31: 1249.749 | AF31: 1505.65 | AG31: =HLOOKUP($A31,computation!$1:$1048576,ROW(computation!$49:$49)-ROW(computation!$1:$1)+1,0) -> 4797.4407 | AH31: =HLOOKUP($A31,computation!$1:$1048576,ROW(computation!$51:$51)-ROW(computation!$1:$1)+1,0) -> 1752.9372 | AI31: =HLOOKUP($A31,computation!$1:$1048576,ROW(computation!$53:$53)-ROW(computation!$1:$1)+1,0) -> 1230.006 | AJ31: =HLOOKUP($A31,computation!$1:$1048576,ROW(computation!$55:$55)-ROW(computation!$1:$1)+1,0) -> 1243.5823 | AK31: =HLOOKUP($A31,computation!$1:$1048576,ROW(computation!$57:$57)-ROW(computation!$1:$1)+1,0) -> -32.456401 | AL31: =HLOOKUP($A31,computation!$1:$1048576,ROW(computation!$59:$59)-ROW(computation!$1:$1)+1,0) -> 2485.0449 | AM31: =HLOOKUP($A31,computation!$1:$1048576,ROW(computation!$61:$61)-ROW(computation!$1:$1)+1,0) -> 2321.7697 | AN31: =D31/AG31*100 -> 64.120418 | AO31: =AA31/AH31*100 -> 103.61467 | AP31: =AB31/AI31*100 -> 62.108642 | AQ31: =AC31/AJ31*100 -> 62.14305 | AR31: =AD31/AK31*100 -> 64.702183 | AS31: =AE31/AL31*100 -> 50.290802 | AT31: =AF31/AM31*100 -> 64.849241 | AU31: 1262.4 | AV31: 1144.6 | AW31: 2746.4 | AX31: 329.6 | AY31: -117.9 | AZ31: 2958.1 | BA31: 220.725 | BB31: 84.84675 | BC31: =BA31-BB31 -> 135.87825 | BD31: =(BA31/BA30-1)*100 -> 6.9533616 | BE31: =(BB31/BB30-1)*100 -> 9.5709571 | BF31: =(BC31/BC30-1)*100 -> 5.3813487 | BH31: 69.182292 | BI31: 98.660292 | BJ31: -110 | BK31: 64 | BL31: 1121 | BM31: -1057 | CD31: 43 | CG31: =SUMIF(quarterly!$D:AL,$B31,quarterly!AL:AL) -> 1122.4 | CH31: =SUMIF(quarterly!$D:AM,$B31,quarterly!AM:AM) -> 364.9 | CI31: =SUMIF(quarterly!$D:AN,$B31,quarterly!AN:AN) -> 757.5 | CJ31: =SUMIF(quarterly!$D:AO,$B31,quarterly!AO:AO) -> 204.6 | CR31: =VLOOKUP($A31,quarterly!$B$2:$CL$143,COLUMN(quarterly!$AV:$AV)) -> 1407.2 | CS31: =SUMIF(quarterly!$D:AX,$B31,quarterly!AX:AX) -> 207 | CT31: =SUMIF(quarterly!$D:AY,$B31,quarterly!AY:AY) -> -134.9 | DA31: 7.6 | DB31: 15.2 | DC31: 0.95138426 | DD31: 0.73443008 | DE31: 988.7 | DF31: 766.6 | DG31: 5.6 | DI31: 599.6 | DJ31: 315.9 | DK31: 186.2 | DL31: 94.5 | DM31: 35.2 | DN31: 90 | DO31: 193.7 | DP31: 167 | DQ31: 0 | DR31: 222.1 | DS31: 1089.1 | DV31: -100.3 | DY31: =VLOOKUP($A31,quarterly!$B$2:$CQ$153,COLUMN($BY:$BY)) -> 1407.2 | DZ31: =VLOOKUP($A31,quarterly!$B$2:$CQ$153,COLUMN($BZ:$BZ)) -> 407.5 | EA31: =VLOOKUP($A31,quarterly!$B$2:$CQ$153,COLUMN($CA:$CA)) -> 999.7 | EJ31: =SUMIF(quarterly!$D:CK,$B31,quarterly!CK:CK)/COUNTIF(quarterly!$D:$D,$B31) -> 103.175 | EK31: =(EJ31/EJ30-1)*100 -> 7.2783988 | EL31: 73.803 | EM31: 3.45 | EN31: 1.319 | EO31: 10.107 | EP31: 5.572 | EQ31: 9.297 | ER31: 3.193 | ES31: 4172.746 | ET31: -4167.75
